BEGIN:VCALENDAR
VERSION:2.0
PRODID:spatie/icalendar-generator
DESCRIPTION:Veranstaltungen von Klairs
X-WR-CALDESC:Veranstaltungen von Klairs
REFRESH-INTERVAL;VALUE=DURATION:PT1440M
X-PUBLISHED-TTL:PT1440M
BEGIN:VTIMEZONE
TZID:Etc/GMT-1
BEGIN:STANDARD
DTSTART:20230812T130000Z
TZOFFSETFROM:+0100
TZOFFSETTO:+0100
END:STANDARD
END:VTIMEZONE
BEGIN:VTIMEZONE
TZID:UTC
BEGIN:STANDARD
DTSTART:20250725T221116Z
TZOFFSETFROM:+0000
TZOFFSETTO:+0000
END:STANDARD
END:VTIMEZONE
BEGIN:VEVENT
UID:10069-219
DTSTAMP:20260421T221116Z
SUMMARY:Grina-Träff 50+
LOCATION:
ORGANIZER;CN=Reformierte Kirche Uster:MAILTO:beatrice.schulte@refuster.ch
DTSTART;TZID=Etc/GMT-1:20240508T130000
DTEND;TZID=Etc/GMT-1:20240508T170000
X-ALT-DESC;FMTTYPE=TEXT/HTML:
CATEGORIES:Allgemein
URL;VALUE=URI:https://klairs.ch/mc-events/grina-traeff-50-12/
METHOD:PUBLISH
END:VEVENT
END:VCALENDAR